BEGIN:VCALENDAR
VERSION:2.0
PRODID:-//www.asteraz.org//NONSGML kigkonsult.se iCalcreator 2.30.10//
CALSCALE:GREGORIAN
METHOD:PUBLISH
UID:e6fc2863-7712-47a3-86f3-879a0fc29611
X-WR-CALDESC:Ever wanted to try your hand at acting? Here's your chance! Jo
 in our Senior Players group every Thursday to test out your acting chops -
  no experience needed\, and all are welcome!
X-WR-RELCALID:09e179500919a2b8a9694325541a6b4d
X-WR-TIMEZONE:America/Denver
BEGIN:VTIMEZONE
TZID:America/Denver
BEGIN:STANDARD
TZNAME:MST
DTSTART:20301103T020000
TZOFFSETFROM:-0600
TZOFFSETTO:-0700
RDATE:20311102T020000
RDATE:20321107T020000
END:STANDARD
BEGIN:DAYLIGHT
TZNAME:MDT
DTSTART:20310309T020000
TZOFFSETFROM:-0700
TZOFFSETTO:-0600
RDATE:20320314T020000
RDATE:20330313T020000
END:DAYLIGHT
END:VTIMEZONE
BEGIN:VEVENT
UID:ba69121c-a47f-4f63-b7ad-1811365fb971
DTSTAMP:20260425T154823Z
DESCRIPTION:Ever wanted to try your hand at acting? Here's your chance! Joi
 n our Senior Players group every Thursday to test out your acting chops - 
 no experience needed\, and all are welcome!
DTSTART;TZID=America/Denver:20311016T130000
DTEND;TZID=America/Denver:20311016T140000
LOCATION:247 N. Macdonald Street\, Mesa\, AZ 85201 US
SUMMARY:Senior Players Theater Group
END:VEVENT
END:VCALENDAR
