BEGIN:VCALENDAR
VERSION:2.0
PRODID:-//www.asteraz.org//NONSGML kigkonsult.se iCalcreator 2.30.10//
CALSCALE:GREGORIAN
METHOD:PUBLISH
UID:e9a50cc8-4cd8-4fe3-a11f-80b6aed16d09
X-WR-CALDESC:Dominoes\, puzzles\, board games\, cards\, & more! Join us at 
 the Mesa Downtown Senior Center every Thursday morning for lively conversa
 tion and fun games.
X-WR-RELCALID:12e28c9af89bef7897073d9597e62de5
X-WR-TIMEZONE:America/Denver
BEGIN:VTIMEZONE
TZID:America/Denver
BEGIN:STANDARD
TZNAME:MST
DTSTART:20301103T020000
TZOFFSETFROM:-0600
TZOFFSETTO:-0700
RDATE:20311102T020000
RDATE:20321107T020000
END:STANDARD
BEGIN:DAYLIGHT
TZNAME:MDT
DTSTART:20310309T020000
TZOFFSETFROM:-0700
TZOFFSETTO:-0600
RDATE:20320314T020000
RDATE:20330313T020000
END:DAYLIGHT
END:VTIMEZONE
BEGIN:VEVENT
UID:f0da9079-6d66-4016-a107-dc28335426ca
DTSTAMP:20260425T152557Z
DESCRIPTION:Dominoes\, puzzles\, board games\, cards\, & more! Join us at t
 he Mesa Downtown Senior Center every Thursday morning for lively conversat
 ion and fun games.
DTSTART;TZID=America/Denver:20311016T093000
DTEND;TZID=America/Denver:20311016T103000
LOCATION:247 N. Macdonald Street\, Mesa\, AL 85201 US
SUMMARY:Fun & Games
END:VEVENT
END:VCALENDAR
