BEGIN:VCALENDAR
VERSION:2.0
PRODID:-//www.asteraz.org//NONSGML kigkonsult.se iCalcreator 2.30.10//
CALSCALE:GREGORIAN
METHOD:PUBLISH
UID:321232a2-bb6f-454f-851e-dc616a1d3d7a
X-WR-CALDESC:Join us for a relaxing walk while chatting with each other eve
 ry second and fourth Wednesday of the month at the Red Mountain Senior Cen
 ter.
X-WR-RELCALID:edc0514aecb990039381f5357b0f2b29
X-WR-TIMEZONE:America/Denver
BEGIN:VTIMEZONE
TZID:America/Denver
BEGIN:STANDARD
TZNAME:MST
DTSTART:20301103T020000
TZOFFSETFROM:-0600
TZOFFSETTO:-0700
RDATE:20311102T020000
RDATE:20321107T020000
END:STANDARD
BEGIN:DAYLIGHT
TZNAME:MDT
DTSTART:20310309T020000
TZOFFSETFROM:-0700
TZOFFSETTO:-0600
RDATE:20320314T020000
RDATE:20330313T020000
END:DAYLIGHT
END:VTIMEZONE
BEGIN:VEVENT
UID:2c526261-cf9f-4872-b326-33a71c291dc9
DTSTAMP:20260425T153735Z
DESCRIPTION:Join us for a relaxing walk while chatting with each other ever
 y second and fourth Wednesday of the month at the Red Mountain Senior Cent
 er.
DTSTART;TZID=America/Denver:20311015T093000
DTEND;TZID=America/Denver:20311015T103000
LOCATION:7550 East Adobe Street\, Mesa\, AZ 85207 US
SUMMARY:Walkie Talkie
END:VEVENT
END:VCALENDAR
