BEGIN:VCALENDAR
VERSION:2.0
PRODID:-//www.asteraz.org//NONSGML kigkonsult.se iCalcreator 2.30.10//
CALSCALE:GREGORIAN
METHOD:PUBLISH
UID:6a4ae8e0-01e6-4525-a54f-9ff8ca3a895f
X-WR-CALDESC:Pinochle\, also called pinocle or penuchle\, is a trick-taking
  ace–ten card game. It's a whole lot of fun\, and we'd love if you joined 
 us every Tuesday and Thursday for our games at the Mesa Downtown Senior Ce
 nter!
X-WR-RELCALID:6fde129b01f3e4807bdb733481476831
X-WR-TIMEZONE:America/Denver
BEGIN:VTIMEZONE
TZID:America/Denver
BEGIN:STANDARD
TZNAME:MST
DTSTART:20301103T020000
TZOFFSETFROM:-0600
TZOFFSETTO:-0700
RDATE:20311102T020000
RDATE:20321107T020000
END:STANDARD
BEGIN:DAYLIGHT
TZNAME:MDT
DTSTART:20310309T020000
TZOFFSETFROM:-0700
TZOFFSETTO:-0600
RDATE:20320314T020000
RDATE:20330313T020000
END:DAYLIGHT
END:VTIMEZONE
BEGIN:VEVENT
UID:fa9d0c82-07d9-4b01-8b4a-f3e98b2d2e3a
DTSTAMP:20260425T153551Z
DESCRIPTION:Pinochle\, also called pinocle or penuchle\, is a trick-taking 
 ace–ten card game. It's a whole lot of fun\, and we'd love if you joined u
 s every Tuesday and Thursday for our games at the Mesa Downtown Senior Cen
 ter!
DTSTART;TZID=America/Denver:20311014T123000
DTEND;TZID=America/Denver:20311014T150000
LOCATION:247 N. Macdonald Street\, Mesa\, AZ 85201 US
SUMMARY:Pinochle
END:VEVENT
END:VCALENDAR
