BEGIN:VCALENDAR
VERSION:2.0
PRODID:-//www.asteraz.org//NONSGML kigkonsult.se iCalcreator 2.30.10//
CALSCALE:GREGORIAN
METHOD:PUBLISH
UID:dba99a6c-7a28-4300-9f72-48459bc2386c
X-WR-CALDESC:Create magical diamond art!
X-WR-RELCALID:8f7479a28e378bb5af5770252e3c83c4
X-WR-TIMEZONE:America/Denver
BEGIN:VTIMEZONE
TZID:America/Denver
BEGIN:STANDARD
TZNAME:MST
DTSTART:20301103T020000
TZOFFSETFROM:-0600
TZOFFSETTO:-0700
RDATE:20311102T020000
RDATE:20321107T020000
END:STANDARD
BEGIN:DAYLIGHT
TZNAME:MDT
DTSTART:20310309T020000
TZOFFSETFROM:-0700
TZOFFSETTO:-0600
RDATE:20320314T020000
RDATE:20330313T020000
END:DAYLIGHT
END:VTIMEZONE
BEGIN:VEVENT
UID:d2cc3e57-63a8-4b1f-ac96-ea7e3b5d68a2
DTSTAMP:20260425T152832Z
DESCRIPTION:Create magical diamond art!
DTSTART;TZID=America/Denver:20311013T123000
DTEND;TZID=America/Denver:20311013T150000
LOCATION:7550 East Adobe Street\, Mesa\, AZ 85207 US
SUMMARY:Diamond Art
END:VEVENT
END:VCALENDAR
