BEGIN:VCALENDAR
VERSION:2.0
PRODID:-//www.asteraz.org//NONSGML kigkonsult.se iCalcreator 2.30.10//
CALSCALE:GREGORIAN
METHOD:PUBLISH
UID:ea9e22d1-73a7-41a2-8f6c-6608627df268
X-WR-CALDESC:Just like the real thing! Join us every Monday and Friday for 
 a lively game of Wii Bowling. Never played before? No problem! Wii Bowling
  is intuitive and easy to learn. Every week\, plenty of newcomers give it 
 a try\, and some even get a few Strikes!
X-WR-RELCALID:85230c58e06fd7bf89986057e9df8f5d
X-WR-TIMEZONE:America/Denver
BEGIN:VTIMEZONE
TZID:America/Denver
BEGIN:STANDARD
TZNAME:MST
DTSTART:20301103T020000
TZOFFSETFROM:-0600
TZOFFSETTO:-0700
RDATE:20311102T020000
RDATE:20321107T020000
END:STANDARD
BEGIN:DAYLIGHT
TZNAME:MDT
DTSTART:20310309T020000
TZOFFSETFROM:-0700
TZOFFSETTO:-0600
RDATE:20320314T020000
RDATE:20330313T020000
END:DAYLIGHT
END:VTIMEZONE
BEGIN:VEVENT
UID:1eaf13c8-25db-443c-9ac0-a6306f95f1ce
DTSTAMP:20260425T153025Z
DESCRIPTION:Just like the real thing! Join us every Monday and Friday for a
  lively game of Wii Bowling. Never played before? No problem! Wii Bowling 
 is intuitive and easy to learn. Every week\, plenty of newcomers give it a
  try\, and some even get a few Strikes!
DTSTART;TZID=America/Denver:20311013T080000
DTEND;TZID=America/Denver:20311013T110000
LOCATION:247 N. Macdonald Street\, Mesa\, AL 85201 US
SUMMARY:Wii Bowling
END:VEVENT
END:VCALENDAR
