BEGIN:VCALENDAR
VERSION:2.0
PRODID:-//www.asteraz.org//NONSGML kigkonsult.se iCalcreator 2.30.10//
CALSCALE:GREGORIAN
METHOD:PUBLISH
UID:bf711e23-4f23-4654-bb59-f80d2b667ecb
X-WR-CALDESC:Join us every Thursday at the Red Mountain Senior Center for a
  fun game of Mexican Train Dominoes. No experience? No problem! We're here
  to have fun.
X-WR-RELCALID:5cbbb1c6347a3602b893a9aabf49dd56
X-WR-TIMEZONE:America/Denver
BEGIN:VTIMEZONE
TZID:America/Denver
BEGIN:STANDARD
TZNAME:MST
DTSTART:20301103T020000
TZOFFSETFROM:-0600
TZOFFSETTO:-0700
RDATE:20311102T020000
RDATE:20321107T020000
END:STANDARD
BEGIN:DAYLIGHT
TZNAME:MDT
DTSTART:20310309T020000
TZOFFSETFROM:-0700
TZOFFSETTO:-0600
RDATE:20320314T020000
RDATE:20330313T020000
END:DAYLIGHT
END:VTIMEZONE
BEGIN:VEVENT
UID:fe360a08-feaf-4449-8875-bc576236222c
DTSTAMP:20260425T153650Z
DESCRIPTION:Join us every Thursday at the Red Mountain Senior Center for a 
 fun game of Mexican Train Dominoes. No experience? No problem! We're here 
 to have fun.
DTSTART;TZID=America/Denver:20311009T123000
DTEND;TZID=America/Denver:20311009T153000
LOCATION:7550 East Adobe Street\, Mesa\, AZ 85207 US
SUMMARY:Mexican Train Dominoes
END:VEVENT
END:VCALENDAR
