BEGIN:VCALENDAR
VERSION:2.0
PRODID:-//www.asteraz.org//NONSGML kigkonsult.se iCalcreator 2.30.10//
CALSCALE:GREGORIAN
METHOD:PUBLISH
UID:32b691ee-9c36-4381-af6e-5c84d8afc621
X-WR-CALDESC:Join us every Tuesday and Thursday in the Mesa Downtown Senior
  Center fitness center to connect with a fitness trainer to help you stay 
 in shape and reach your fitness goals.
X-WR-RELCALID:d5c0511660d8326e1a090dfe330b6aba
X-WR-TIMEZONE:America/Denver
BEGIN:VTIMEZONE
TZID:America/Denver
BEGIN:STANDARD
TZNAME:MST
DTSTART:20301103T020000
TZOFFSETFROM:-0600
TZOFFSETTO:-0700
RDATE:20311102T020000
RDATE:20321107T020000
END:STANDARD
BEGIN:DAYLIGHT
TZNAME:MDT
DTSTART:20310309T020000
TZOFFSETFROM:-0700
TZOFFSETTO:-0600
RDATE:20320314T020000
RDATE:20330313T020000
END:DAYLIGHT
END:VTIMEZONE
BEGIN:VEVENT
UID:1eed6719-3280-41f5-9d66-a08299fe87c9
DTSTAMP:20260425T154640Z
DESCRIPTION:Join us every Tuesday and Thursday in the Mesa Downtown Senior 
 Center fitness center to connect with a fitness trainer to help you stay i
 n shape and reach your fitness goals.
DTSTART;TZID=America/Denver:20311009T103000
DTEND;TZID=America/Denver:20311009T140000
LOCATION:247 N. Macdonald Street\, Mesa\, AZ 85201 US
SUMMARY:Fitness Trainer
END:VEVENT
END:VCALENDAR
