BEGIN:VCALENDAR
VERSION:2.0
PRODID:-//www.asteraz.org//NONSGML kigkonsult.se iCalcreator 2.30.10//
CALSCALE:GREGORIAN
METHOD:PUBLISH
UID:70beafb7-9daf-4a4e-a46f-fb676edac304
X-WR-CALDESC:Create beautiful art facilitated by Mesa Art League. \n\nThe M
 esa Art League offers a Veterans' Outreach Art Program to Veterans and the
 ir families.\n\nMeets on the 1st\, 2nd and 4th Thursday of the Month.\n\n
X-WR-RELCALID:e9f4c39462d8fca492068f1fac99394c
X-WR-TIMEZONE:America/Denver
BEGIN:VTIMEZONE
TZID:America/Denver
BEGIN:STANDARD
TZNAME:MST
DTSTART:20301103T020000
TZOFFSETFROM:-0600
TZOFFSETTO:-0700
RDATE:20311102T020000
RDATE:20321107T020000
END:STANDARD
BEGIN:DAYLIGHT
TZNAME:MDT
DTSTART:20310309T020000
TZOFFSETFROM:-0700
TZOFFSETTO:-0600
RDATE:20320314T020000
RDATE:20330313T020000
END:DAYLIGHT
END:VTIMEZONE
BEGIN:VEVENT
UID:35156f76-ef5d-4d48-b155-7b50add33e08
DTSTAMP:20260425T153808Z
DESCRIPTION:Create beautiful art facilitated by Mesa Art League. \n\nThe Me
 sa Art League offers a Veterans' Outreach Art Program to Veterans and thei
 r families.\n\nMeets on the 1st\, 2nd and 4th Thursday of the Month.\n\n
DTSTART;TZID=America/Denver:20311009T100000
DTEND;TZID=America/Denver:20311009T110000
LOCATION:Mesa Downtown
SUMMARY:DT Veterans Art
END:VEVENT
END:VCALENDAR
