BEGIN:VCALENDAR
VERSION:2.0
PRODID:-//www.asteraz.org//NONSGML kigkonsult.se iCalcreator 2.30.10//
CALSCALE:GREGORIAN
METHOD:PUBLISH
UID:663bd9ea-e639-4745-9d6f-c4db5dd87408
X-WR-CALDESC:Cost: $25/month plus supplies\n\nJoin us for an adventure in a
 ll things quilting! Instructor Clarice will teach quilters of all levels. 
 Limited spots\, RSVP for more info.
X-WR-RELCALID:c13520c652f0dd323438ecaa42aacc3a
X-WR-TIMEZONE:America/Denver
BEGIN:VTIMEZONE
TZID:America/Denver
BEGIN:STANDARD
TZNAME:MST
DTSTART:20301103T020000
TZOFFSETFROM:-0600
TZOFFSETTO:-0700
RDATE:20311102T020000
RDATE:20321107T020000
END:STANDARD
BEGIN:DAYLIGHT
TZNAME:MDT
DTSTART:20310309T020000
TZOFFSETFROM:-0700
TZOFFSETTO:-0600
RDATE:20320314T020000
RDATE:20330313T020000
END:DAYLIGHT
END:VTIMEZONE
BEGIN:VEVENT
UID:b8e71446-2f50-4d96-a8b6-10c4517616f3
DTSTAMP:20260425T152623Z
DESCRIPTION:Cost: $25/month plus supplies\n\nJoin us for an adventure in al
 l things quilting! Instructor Clarice will teach quilters of all levels. L
 imited spots\, RSVP for more info.
DTSTART;TZID=America/Denver:20311008T120000
DTEND;TZID=America/Denver:20311008T150000
LOCATION:247 N. Macdonald Street\, Mesa\, AZ 85201 US
SUMMARY:Quilting Class
END:VEVENT
END:VCALENDAR
