BEGIN:VCALENDAR
VERSION:2.0
PRODID:-//www.asteraz.org//NONSGML kigkonsult.se iCalcreator 2.30.10//
CALSCALE:GREGORIAN
METHOD:PUBLISH
UID:78c97927-0a4b-4332-bbba-8e45723f53b2
X-WR-CALDESC:Join instructor Jeanette for a great workout using bands\, wei
 ghts and more. Capacity is limited\, so RSVP today!
X-WR-RELCALID:ce8629cf9a9389c316a3f3c642a81a3f
X-WR-TIMEZONE:America/Denver
BEGIN:VTIMEZONE
TZID:America/Denver
BEGIN:STANDARD
TZNAME:MST
DTSTART:20301103T020000
TZOFFSETFROM:-0600
TZOFFSETTO:-0700
RDATE:20311102T020000
RDATE:20321107T020000
END:STANDARD
BEGIN:DAYLIGHT
TZNAME:MDT
DTSTART:20310309T020000
TZOFFSETFROM:-0700
TZOFFSETTO:-0600
RDATE:20320314T020000
RDATE:20330313T020000
END:DAYLIGHT
END:VTIMEZONE
BEGIN:VEVENT
UID:c3885a39-f2d1-45ea-b73f-0d1b7531f241
DTSTAMP:20260425T154451Z
DESCRIPTION:Join instructor Jeanette for a great workout using bands\, weig
 hts and more. Capacity is limited\, so RSVP today!
DTSTART;TZID=America/Denver:20311007T130000
DTEND;TZID=America/Denver:20311007T140000
LOCATION:247 N. Macdonald Street\, Mesa\, AZ 85201 US
SUMMARY:Geri Fit by Area Agency on Aging
END:VEVENT
END:VCALENDAR
