BEGIN:VCALENDAR
VERSION:2.0
PRODID:-//www.asteraz.org//NONSGML kigkonsult.se iCalcreator 2.30.10//
CALSCALE:GREGORIAN
METHOD:PUBLISH
UID:90feb33a-dcfd-4767-a08f-f2de8da0d619
X-WR-CALDESC:Join us every day from 10:00 am to 3:00 pm for an exciting gam
 e of billiards at Mesa's Downtown Senior Center. Our pool tables just got 
 resurfaced\, and they're as good as new.
X-WR-RELCALID:ff6083fbc68a85ffd628536a5e845df4
X-WR-TIMEZONE:America/Denver
BEGIN:VTIMEZONE
TZID:America/Denver
BEGIN:STANDARD
TZNAME:MST
DTSTART:20301103T020000
TZOFFSETFROM:-0600
TZOFFSETTO:-0700
RDATE:20311102T020000
RDATE:20321107T020000
END:STANDARD
BEGIN:DAYLIGHT
TZNAME:MDT
DTSTART:20310309T020000
TZOFFSETFROM:-0700
TZOFFSETTO:-0600
RDATE:20320314T020000
RDATE:20330313T020000
END:DAYLIGHT
END:VTIMEZONE
BEGIN:VEVENT
UID:c74c05d9-8cc2-4c11-808d-a74e15f71c61
DTSTAMP:20260425T155054Z
DESCRIPTION:Join us every day from 10:00 am to 3:00 pm for an exciting game
  of billiards at Mesa's Downtown Senior Center. Our pool tables just got r
 esurfaced\, and they're as good as new.
DTSTART;TZID=America/Denver:20311007T100000
DTEND;TZID=America/Denver:20311007T150000
LOCATION:247 N. Macdonald Street\, Mesa\, AZ 85201 US
SUMMARY:Billiards at the Mesa Downtown Senior Center
END:VEVENT
END:VCALENDAR
