BEGIN:VCALENDAR
VERSION:2.0
PRODID:-//www.asteraz.org//NONSGML kigkonsult.se iCalcreator 2.30.10//
CALSCALE:GREGORIAN
METHOD:PUBLISH
UID:7656e56c-a752-4302-9504-495e2b0b5627
X-WR-CALDESC:Get your morning moving in the right direction with some exerc
 ise! Form new friendships and a healthy routine with relaxing Morning Move
 ment.\n\nThis activity has a $2 fee.
X-WR-RELCALID:e28e7d7ede7cf9118d15ef5bd2e619b2
X-WR-TIMEZONE:America/Denver
BEGIN:VTIMEZONE
TZID:America/Denver
BEGIN:STANDARD
TZNAME:MST
DTSTART:20301103T020000
TZOFFSETFROM:-0600
TZOFFSETTO:-0700
RDATE:20311102T020000
RDATE:20321107T020000
END:STANDARD
BEGIN:DAYLIGHT
TZNAME:MDT
DTSTART:20310309T020000
TZOFFSETFROM:-0700
TZOFFSETTO:-0600
RDATE:20320314T020000
RDATE:20330313T020000
END:DAYLIGHT
END:VTIMEZONE
BEGIN:VEVENT
UID:87060025-5e24-4722-93b0-9e4a1e558e56
DTSTAMP:20260425T155238Z
DESCRIPTION:Get your morning moving in the right direction with some exerci
 se! Form new friendships and a healthy routine with relaxing Morning Movem
 ent.\n\nThis activity has a $2 fee.
DTSTART;TZID=America/Denver:20311007T081500
DTEND;TZID=America/Denver:20311007T091500
LOCATION:247 N. Macdonald Street\, Mesa\, AZ 85201 US
SUMMARY:Morning Movement at the Downtown Senior Center
END:VEVENT
END:VCALENDAR
