BEGIN:VCALENDAR
VERSION:2.0
PRODID:-//www.asteraz.org//NONSGML kigkonsult.se iCalcreator 2.30.10//
CALSCALE:GREGORIAN
METHOD:PUBLISH
UID:41008731-1773-4bb5-9af0-8ba840af9bd3
X-WR-CALDESC:Join us each first Friday of the month to share in the love of
  reading!
X-WR-RELCALID:07e6344647ccaf8be83fdae81fab66b6
X-WR-TIMEZONE:America/Denver
BEGIN:VTIMEZONE
TZID:America/Denver
BEGIN:STANDARD
TZNAME:MST
DTSTART:20301103T020000
TZOFFSETFROM:-0600
TZOFFSETTO:-0700
RDATE:20311102T020000
RDATE:20321107T020000
END:STANDARD
BEGIN:DAYLIGHT
TZNAME:MDT
DTSTART:20310309T020000
TZOFFSETFROM:-0700
TZOFFSETTO:-0600
RDATE:20320314T020000
RDATE:20330313T020000
END:DAYLIGHT
END:VTIMEZONE
BEGIN:VEVENT
UID:bfc712f4-82b5-4c3a-ae98-aff31d13ac6d
DTSTAMP:20260425T154710Z
DESCRIPTION:Join us each first Friday of the month to share in the love of 
 reading!
DTSTART;TZID=America/Denver:20311003T100000
DTEND;TZID=America/Denver:20311003T110000
LOCATION:7550 East Adobe Street\, Mesa\, AZ 85207 US
SUMMARY:First Friday Book Club
END:VEVENT
END:VCALENDAR
