BEGIN:VCALENDAR
VERSION:2.0
PRODID:-//www.asteraz.org//NONSGML kigkonsult.se iCalcreator 2.30.10//
CALSCALE:GREGORIAN
METHOD:PUBLISH
UID:e50a445f-0b9f-4b72-8871-77b29981b0dc
X-WR-CALDESC:Have fun creating jewelry\, origami\, and other arts and craft
 s.
X-WR-RELCALID:c8a217efe8fb71a81e9650d54e01fe82
X-WR-TIMEZONE:America/Denver
BEGIN:VTIMEZONE
TZID:America/Denver
BEGIN:STANDARD
TZNAME:MST
DTSTART:20301103T020000
TZOFFSETFROM:-0600
TZOFFSETTO:-0700
RDATE:20311102T020000
RDATE:20321107T020000
END:STANDARD
BEGIN:DAYLIGHT
TZNAME:MDT
DTSTART:20310309T020000
TZOFFSETFROM:-0700
TZOFFSETTO:-0600
RDATE:20320314T020000
RDATE:20330313T020000
END:DAYLIGHT
END:VTIMEZONE
BEGIN:VEVENT
UID:42d29d0a-7a76-4b69-8e8a-b4a56cfabb15
DTSTAMP:20260425T153437Z
DESCRIPTION:Have fun creating jewelry\, origami\, and other arts and crafts
 .
DTSTART;TZID=America/Denver:20311003T090000
DTEND;TZID=America/Denver:20311003T110000
LOCATION:247 N. Macdonald Street\, Mesa\, AZ 85201 US
SUMMARY:Arts & Crafts
END:VEVENT
END:VCALENDAR
