BEGIN:VCALENDAR
VERSION:2.0
PRODID:-//www.asteraz.org//NONSGML kigkonsult.se iCalcreator 2.30.10//
CALSCALE:GREGORIAN
METHOD:PUBLISH
UID:1d955d15-2987-420c-b02a-05c9ad9e9c84
X-WR-CALDESC:Ever wanted to try your hand at acting? Here's your chance! Jo
 in our Senior Players group every Thursday to test out your acting chops -
  no experience needed\, and all are welcome!
X-WR-RELCALID:c915177b04c62caec1b186b45edcd99e
X-WR-TIMEZONE:America/Denver
BEGIN:VTIMEZONE
TZID:America/Denver
BEGIN:STANDARD
TZNAME:MST
DTSTART:20301103T020000
TZOFFSETFROM:-0600
TZOFFSETTO:-0700
RDATE:20311102T020000
RDATE:20321107T020000
END:STANDARD
BEGIN:DAYLIGHT
TZNAME:MDT
DTSTART:20310309T020000
TZOFFSETFROM:-0700
TZOFFSETTO:-0600
RDATE:20320314T020000
RDATE:20330313T020000
END:DAYLIGHT
END:VTIMEZONE
BEGIN:VEVENT
UID:e8bc6207-0f8f-431c-851d-d2016fd3e5fd
DTSTAMP:20260425T154939Z
DESCRIPTION:Ever wanted to try your hand at acting? Here's your chance! Joi
 n our Senior Players group every Thursday to test out your acting chops - 
 no experience needed\, and all are welcome!
DTSTART;TZID=America/Denver:20311002T130000
DTEND;TZID=America/Denver:20311002T140000
LOCATION:247 N. Macdonald Street\, Mesa\, AZ 85201 US
SUMMARY:Senior Players Theater Group
END:VEVENT
END:VCALENDAR
