BEGIN:VCALENDAR
VERSION:2.0
PRODID:-//www.asteraz.org//NONSGML kigkonsult.se iCalcreator 2.30.10//
CALSCALE:GREGORIAN
METHOD:PUBLISH
UID:e15b329c-2414-4557-a892-16a85845ebd1
X-WR-CALDESC:Join us every Thursday at the Red Mountain Senior Center for a
  fun game of Mexican Train Dominoes. No experience? No problem! We're here
  to have fun.
X-WR-RELCALID:3434c0b3f82b1e73817f002562a6a862
X-WR-TIMEZONE:America/Denver
BEGIN:VTIMEZONE
TZID:America/Denver
BEGIN:STANDARD
TZNAME:MST
DTSTART:20301103T020000
TZOFFSETFROM:-0600
TZOFFSETTO:-0700
RDATE:20311102T020000
RDATE:20321107T020000
END:STANDARD
BEGIN:DAYLIGHT
TZNAME:MDT
DTSTART:20310309T020000
TZOFFSETFROM:-0700
TZOFFSETTO:-0600
RDATE:20320314T020000
RDATE:20330313T020000
END:DAYLIGHT
END:VTIMEZONE
BEGIN:VEVENT
UID:9d7c4304-7043-444c-9de1-0a00d4fbc80a
DTSTAMP:20260425T153650Z
DESCRIPTION:Join us every Thursday at the Red Mountain Senior Center for a 
 fun game of Mexican Train Dominoes. No experience? No problem! We're here 
 to have fun.
DTSTART;TZID=America/Denver:20311002T123000
DTEND;TZID=America/Denver:20311002T153000
LOCATION:7550 East Adobe Street\, Mesa\, AZ 85207 US
SUMMARY:Mexican Train Dominoes
END:VEVENT
END:VCALENDAR
