BEGIN:VCALENDAR
VERSION:2.0
PRODID:-//www.asteraz.org//NONSGML kigkonsult.se iCalcreator 2.30.10//
CALSCALE:GREGORIAN
METHOD:PUBLISH
UID:c644d437-aea1-428a-954e-2eb7f8a9700c
X-WR-CALDESC:Come enjoy a good film and fresh popcorn at Aster's Movie Club
 .\nMovies are free to attend with complimentary popcorn. Additional snacks
  are available for purchase in the Café.
X-WR-RELCALID:9a189bc02c0befdfc5e0f414a68e3094
X-WR-TIMEZONE:America/Denver
BEGIN:VTIMEZONE
TZID:America/Denver
BEGIN:STANDARD
TZNAME:MST
DTSTART:20301103T020000
TZOFFSETFROM:-0600
TZOFFSETTO:-0700
RDATE:20311102T020000
RDATE:20321107T020000
END:STANDARD
BEGIN:DAYLIGHT
TZNAME:MDT
DTSTART:20310309T020000
TZOFFSETFROM:-0700
TZOFFSETTO:-0600
RDATE:20320314T020000
RDATE:20330313T020000
END:DAYLIGHT
END:VTIMEZONE
BEGIN:VEVENT
UID:2ca7aae6-af75-4e6a-8340-72f48820da0a
DTSTAMP:20260425T155026Z
DESCRIPTION:Come enjoy a good film and fresh popcorn at Aster's Movie Club.
 \nMovies are free to attend with complimentary popcorn. Additional snacks 
 are available for purchase in the Café.
DTSTART;TZID=America/Denver:20311002T123000
DTEND;TZID=America/Denver:20311002T150000
LOCATION:Mesa Downtown
SUMMARY:DT Movie Club
END:VEVENT
END:VCALENDAR
