BEGIN:VCALENDAR
VERSION:2.0
PRODID:-//www.asteraz.org//NONSGML kigkonsult.se iCalcreator 2.30.10//
CALSCALE:GREGORIAN
METHOD:PUBLISH
UID:1c8d2ae0-02e5-436b-8cc8-6e6ae8f3592e
X-WR-CALDESC:Create beautiful art facilitated by Mesa Art League. \n\nThe M
 esa Art League offers a Veterans' Outreach Art Program to Veterans and the
 ir families.\n\nMeets on the 1st\, 2nd and 4th Thursday of the Month.\n\n
X-WR-RELCALID:f479ba81ce1c06ca385241557eccecf3
X-WR-TIMEZONE:America/Denver
BEGIN:VTIMEZONE
TZID:America/Denver
BEGIN:STANDARD
TZNAME:MST
DTSTART:20301103T020000
TZOFFSETFROM:-0600
TZOFFSETTO:-0700
RDATE:20311102T020000
RDATE:20321107T020000
END:STANDARD
BEGIN:DAYLIGHT
TZNAME:MDT
DTSTART:20310309T020000
TZOFFSETFROM:-0700
TZOFFSETTO:-0600
RDATE:20320314T020000
RDATE:20330313T020000
END:DAYLIGHT
END:VTIMEZONE
BEGIN:VEVENT
UID:6ef6835f-ff44-445b-989e-2284d786bc0a
DTSTAMP:20260425T153641Z
DESCRIPTION:Create beautiful art facilitated by Mesa Art League. \n\nThe Me
 sa Art League offers a Veterans' Outreach Art Program to Veterans and thei
 r families.\n\nMeets on the 1st\, 2nd and 4th Thursday of the Month.\n\n
DTSTART;TZID=America/Denver:20311002T100000
DTEND;TZID=America/Denver:20311002T110000
LOCATION:Mesa Downtown
SUMMARY:DT Veterans Art
END:VEVENT
END:VCALENDAR
