BEGIN:VCALENDAR
VERSION:2.0
PRODID:-//www.asteraz.org//NONSGML kigkonsult.se iCalcreator 2.30.10//
CALSCALE:GREGORIAN
METHOD:PUBLISH
UID:8d5e9b01-6e71-4f51-9e34-6c88b1d6de3a
X-WR-CALDESC:Join us to learn about bereavement and how to develop healthy 
 coping skills to deal with your loss. The group will provide support and h
 ope. Capacity is limited.\n\nFacilitated by EMPACT.
X-WR-RELCALID:3909b7e3c880afa3f554f986a4f0257e
X-WR-TIMEZONE:America/Denver
BEGIN:VTIMEZONE
TZID:America/Denver
BEGIN:STANDARD
TZNAME:MST
DTSTART:20301103T020000
TZOFFSETFROM:-0600
TZOFFSETTO:-0700
RDATE:20311102T020000
RDATE:20321107T020000
END:STANDARD
BEGIN:DAYLIGHT
TZNAME:MDT
DTSTART:20310309T020000
TZOFFSETFROM:-0700
TZOFFSETTO:-0600
RDATE:20320314T020000
RDATE:20330313T020000
END:DAYLIGHT
END:VTIMEZONE
BEGIN:VEVENT
UID:05f7d120-81eb-46a6-b09d-581bbd9b23a0
DTSTAMP:20260425T152842Z
DESCRIPTION:Join us to learn about bereavement and how to develop healthy c
 oping skills to deal with your loss. The group will provide support and ho
 pe. Capacity is limited.\n\nFacilitated by EMPACT.
DTSTART;TZID=America/Denver:20311001T130000
DTEND;TZID=America/Denver:20311001T140000
LOCATION:Mesa Downtown Senior Center
SUMMARY:DT Grief & Loss Support
END:VEVENT
END:VCALENDAR
