BEGIN:VCALENDAR
VERSION:2.0
PRODID:-//www.asteraz.org//NONSGML kigkonsult.se iCalcreator 2.30.10//
CALSCALE:GREGORIAN
METHOD:PUBLISH
UID:9f796ccd-5c1b-44c5-a45a-de10e91b123a
X-WR-CALDESC:Bedazzle rubber ducks in this fun and unique class every Wedne
 sday! \n\nCost: supplies
X-WR-RELCALID:1112803b35315502c31dc9ceb3314d8f
X-WR-TIMEZONE:America/Denver
BEGIN:VTIMEZONE
TZID:America/Denver
BEGIN:STANDARD
TZNAME:MST
DTSTART:20301103T020000
TZOFFSETFROM:-0600
TZOFFSETTO:-0700
RDATE:20311102T020000
RDATE:20321107T020000
END:STANDARD
BEGIN:DAYLIGHT
TZNAME:MDT
DTSTART:20310309T020000
TZOFFSETFROM:-0700
TZOFFSETTO:-0600
RDATE:20320314T020000
RDATE:20330313T020000
END:DAYLIGHT
END:VTIMEZONE
BEGIN:VEVENT
UID:7a2fd4e7-440a-4a07-a705-eb529ff1e53f
DTSTAMP:20260425T153640Z
DESCRIPTION:Bedazzle rubber ducks in this fun and unique class every Wednes
 day! \n\nCost: supplies
DTSTART;TZID=America/Denver:20311001T123000
DTEND;TZID=America/Denver:20311001T150000
LOCATION:7550 East Adobe Street\, Mesa\, AZ 85207 US
SUMMARY:Diamond Art Duckies
END:VEVENT
END:VCALENDAR
