BEGIN:VCALENDAR
VERSION:2.0
PRODID:-//www.asteraz.org//NONSGML kigkonsult.se iCalcreator 2.30.10//
CALSCALE:GREGORIAN
METHOD:PUBLISH
UID:16571a06-8d78-41d6-85f1-bdaa40fef619
X-WR-CALDESC:Learn about events and locations throughout history.\n\nCapaci
 ty is limited\, so RSVP to the Center today.
X-WR-RELCALID:37b460bdd18134f0dd270d943fe69d66
X-WR-TIMEZONE:America/Denver
BEGIN:VTIMEZONE
TZID:America/Denver
BEGIN:STANDARD
TZNAME:MST
DTSTART:20301103T020000
TZOFFSETFROM:-0600
TZOFFSETTO:-0700
RDATE:20311102T020000
RDATE:20321107T020000
END:STANDARD
BEGIN:DAYLIGHT
TZNAME:MDT
DTSTART:20310309T020000
TZOFFSETFROM:-0700
TZOFFSETTO:-0600
RDATE:20320314T020000
RDATE:20330313T020000
END:DAYLIGHT
END:VTIMEZONE
BEGIN:VEVENT
UID:118739f8-73c4-4a26-a80c-3d86bcccdf12
DTSTAMP:20260425T121240Z
DESCRIPTION:Learn about events and locations throughout history.\n\nCapacit
 y is limited\, so RSVP to the Center today.
DTSTART;TZID=America/Denver:20310930T140000
DTEND;TZID=America/Denver:20310930T150000
LOCATION:247 N. Macdonald Street\, Mesa\, AZ 85201 US
SUMMARY:History Class
END:VEVENT
END:VCALENDAR
