BEGIN:VCALENDAR
VERSION:2.0
PRODID:-//www.asteraz.org//NONSGML kigkonsult.se iCalcreator 2.30.10//
CALSCALE:GREGORIAN
METHOD:PUBLISH
UID:cd025279-ff8c-484b-925f-0ba5e3fb02f9
X-WR-CALDESC:Pinochle\, also called pinocle or penuchle\, is a trick-taking
  ace–ten card game. It's a whole lot of fun\, and we'd love if you joined 
 us every Tuesday and Thursday for our games at the Mesa Downtown Senior Ce
 nter!
X-WR-RELCALID:0eb982a3f341da1d10a188ba7db3b9a8
X-WR-TIMEZONE:America/Denver
BEGIN:VTIMEZONE
TZID:America/Denver
BEGIN:STANDARD
TZNAME:MST
DTSTART:20301103T020000
TZOFFSETFROM:-0600
TZOFFSETTO:-0700
RDATE:20311102T020000
RDATE:20321107T020000
END:STANDARD
BEGIN:DAYLIGHT
TZNAME:MDT
DTSTART:20310309T020000
TZOFFSETFROM:-0700
TZOFFSETTO:-0600
RDATE:20320314T020000
RDATE:20330313T020000
END:DAYLIGHT
END:VTIMEZONE
BEGIN:VEVENT
UID:5a84444c-30fd-4264-a1ad-a5e6fbe9a6fa
DTSTAMP:20260425T121714Z
DESCRIPTION:Pinochle\, also called pinocle or penuchle\, is a trick-taking 
 ace–ten card game. It's a whole lot of fun\, and we'd love if you joined u
 s every Tuesday and Thursday for our games at the Mesa Downtown Senior Cen
 ter!
DTSTART;TZID=America/Denver:20310930T123000
DTEND;TZID=America/Denver:20310930T150000
LOCATION:247 N. Macdonald Street\, Mesa\, AZ 85201 US
SUMMARY:Pinochle
END:VEVENT
END:VCALENDAR
