BEGIN:VCALENDAR
VERSION:2.0
PRODID:-//www.asteraz.org//NONSGML kigkonsult.se iCalcreator 2.30.10//
CALSCALE:GREGORIAN
METHOD:PUBLISH
UID:ac1dd093-2eac-4001-a5bd-68a154d2a653
X-WR-CALDESC:A weekly group for people with hearing issues to chat and shar
 e their experiences.
X-WR-RELCALID:c3bef2cbafe050697c72797984eda51b
X-WR-TIMEZONE:America/Denver
BEGIN:VTIMEZONE
TZID:America/Denver
BEGIN:STANDARD
TZNAME:MST
DTSTART:20301103T020000
TZOFFSETFROM:-0600
TZOFFSETTO:-0700
RDATE:20311102T020000
RDATE:20321107T020000
END:STANDARD
BEGIN:DAYLIGHT
TZNAME:MDT
DTSTART:20310309T020000
TZOFFSETFROM:-0700
TZOFFSETTO:-0600
RDATE:20320314T020000
RDATE:20330313T020000
END:DAYLIGHT
END:VTIMEZONE
BEGIN:VEVENT
UID:b541b378-d8c3-4c88-ad35-dc17ef20ac7f
DTSTAMP:20260425T121217Z
DESCRIPTION:A weekly group for people with hearing issues to chat and share
  their experiences.
DTSTART;TZID=America/Denver:20310930T103000
DTEND;TZID=America/Denver:20310930T150000
LOCATION:7550 East Adobe Street\, Mesa\, AZ 85207 US
SUMMARY:Deaf Support Group
END:VEVENT
END:VCALENDAR
