BEGIN:VCALENDAR
VERSION:2.0
PRODID:-//www.asteraz.org//NONSGML kigkonsult.se iCalcreator 2.30.10//
CALSCALE:GREGORIAN
METHOD:PUBLISH
UID:a6f7d507-3b1e-46a6-9cd4-819ad9e6bbae
X-WR-CALDESC:Enjoy good company while crafting creative pieces.
X-WR-RELCALID:f1cf3d2bb20ef4695a7b9194d2f5b0ed
X-WR-TIMEZONE:America/Denver
BEGIN:VTIMEZONE
TZID:America/Denver
BEGIN:STANDARD
TZNAME:MST
DTSTART:20301103T020000
TZOFFSETFROM:-0600
TZOFFSETTO:-0700
RDATE:20311102T020000
RDATE:20321107T020000
END:STANDARD
BEGIN:DAYLIGHT
TZNAME:MDT
DTSTART:20310309T020000
TZOFFSETFROM:-0700
TZOFFSETTO:-0600
RDATE:20320314T020000
RDATE:20330313T020000
END:DAYLIGHT
END:VTIMEZONE
BEGIN:VEVENT
UID:05df36ab-c006-482e-89e8-26d7b523c718
DTSTAMP:20260425T122912Z
DESCRIPTION:Enjoy good company while crafting creative pieces.
DTSTART;TZID=America/Denver:20310930T090000
DTEND;TZID=America/Denver:20310930T110000
LOCATION:247 N. Macdonald Street\, Mesa\, AZ 85201 US
SUMMARY:Stitch & Chat at the Mesa Downtown Senior Center
END:VEVENT
END:VCALENDAR
