BEGIN:VCALENDAR
VERSION:2.0
PRODID:-//www.asteraz.org//NONSGML kigkonsult.se iCalcreator 2.30.10//
CALSCALE:GREGORIAN
METHOD:PUBLISH
UID:f7d1d0c2-135a-40d9-84ea-1a75f9d0b087
X-WR-CALDESC:Join us at Aster's Downtown Mesa Senior Center every Friday to
  play Bingo for Cash. RSVP in advance to the Center\, spots are limited.
X-WR-RELCALID:f429df0f99d5d967321597f44aee3e39
X-WR-TIMEZONE:America/Denver
BEGIN:VTIMEZONE
TZID:America/Denver
BEGIN:STANDARD
TZNAME:MST
DTSTART:20301103T020000
TZOFFSETFROM:-0600
TZOFFSETTO:-0700
RDATE:20311102T020000
RDATE:20321107T020000
END:STANDARD
BEGIN:DAYLIGHT
TZNAME:MDT
DTSTART:20310309T020000
TZOFFSETFROM:-0700
TZOFFSETTO:-0600
RDATE:20320314T020000
RDATE:20330313T020000
END:DAYLIGHT
END:VTIMEZONE
BEGIN:VEVENT
UID:41229d6d-3bca-4f2d-bd34-e592c6555d36
DTSTAMP:20260425T122557Z
DESCRIPTION:Join us at Aster's Downtown Mesa Senior Center every Friday to 
 play Bingo for Cash. RSVP in advance to the Center\, spots are limited.
DTSTART;TZID=America/Denver:20310926T130000
DTEND;TZID=America/Denver:20310926T150000
LOCATION:247 N. Macdonald Street\, Mesa\, AZ 85201 US
SUMMARY:Bingo! For Money
END:VEVENT
END:VCALENDAR
