BEGIN:VCALENDAR
VERSION:2.0
PRODID:-//www.asteraz.org//NONSGML kigkonsult.se iCalcreator 2.30.10//
CALSCALE:GREGORIAN
METHOD:PUBLISH
UID:3cdf20ef-7314-47e0-87df-bd8dc1d1474d
X-WR-CALDESC:Just like the real thing! Join us every Monday and Friday for 
 a lively game of Wii Bowling. Never played before? No problem! Wii Bowling
  is intuitive and easy to learn. Every week\, plenty of newcomers give it 
 a try\, and some even get a few Strikes!
X-WR-RELCALID:98cf524220a4834b2c066e788d852f4b
X-WR-TIMEZONE:America/Denver
BEGIN:VTIMEZONE
TZID:America/Denver
BEGIN:STANDARD
TZNAME:MST
DTSTART:20301103T020000
TZOFFSETFROM:-0600
TZOFFSETTO:-0700
RDATE:20311102T020000
RDATE:20321107T020000
END:STANDARD
BEGIN:DAYLIGHT
TZNAME:MDT
DTSTART:20310309T020000
TZOFFSETFROM:-0700
TZOFFSETTO:-0600
RDATE:20320314T020000
RDATE:20330313T020000
END:DAYLIGHT
END:VTIMEZONE
BEGIN:VEVENT
UID:456d740a-d8f8-469c-a1eb-d0171d2bbbf0
DTSTAMP:20260425T122143Z
DESCRIPTION:Just like the real thing! Join us every Monday and Friday for a
  lively game of Wii Bowling. Never played before? No problem! Wii Bowling 
 is intuitive and easy to learn. Every week\, plenty of newcomers give it a
  try\, and some even get a few Strikes!
DTSTART;TZID=America/Denver:20310926T080000
DTEND;TZID=America/Denver:20310926T110000
LOCATION:247 N. Macdonald Street\, Mesa\, AL 85201 US
SUMMARY:Wii Bowling
END:VEVENT
END:VCALENDAR
