BEGIN:VCALENDAR
VERSION:2.0
PRODID:-//www.asteraz.org//NONSGML kigkonsult.se iCalcreator 2.30.10//
CALSCALE:GREGORIAN
METHOD:PUBLISH
UID:1f1c0e93-a7c4-42f5-a9b3-70b03e4b9fac
X-WR-CALDESC:Join the guys to make new friends.
X-WR-RELCALID:67f5025ba9b289f27760c66e7185e0eb
X-WR-TIMEZONE:America/Denver
BEGIN:VTIMEZONE
TZID:America/Denver
BEGIN:STANDARD
TZNAME:MST
DTSTART:20301103T020000
TZOFFSETFROM:-0600
TZOFFSETTO:-0700
RDATE:20311102T020000
RDATE:20321107T020000
END:STANDARD
BEGIN:DAYLIGHT
TZNAME:MDT
DTSTART:20310309T020000
TZOFFSETFROM:-0700
TZOFFSETTO:-0600
RDATE:20320314T020000
RDATE:20330313T020000
END:DAYLIGHT
END:VTIMEZONE
BEGIN:VEVENT
UID:a19a2e53-86d9-4cff-98f1-ddfa3dedb7f4
DTSTAMP:20260425T122456Z
DESCRIPTION:Join the guys to make new friends.
DTSTART;TZID=America/Denver:20310925T123000
DTEND;TZID=America/Denver:20310925T133000
LOCATION:7550 East Adobe Street\, Mesa\, AZ 85207 US
SUMMARY:The Men's Crew
END:VEVENT
END:VCALENDAR
