BEGIN:VCALENDAR
VERSION:2.0
PRODID:-//www.asteraz.org//NONSGML kigkonsult.se iCalcreator 2.30.10//
CALSCALE:GREGORIAN
METHOD:PUBLISH
UID:5e62bbcd-3867-4b46-a725-ece5dccd00e7
X-WR-CALDESC:Join us every Monday and Thursday at the Red Mountain Senior C
 enter for Diamond Art! Diamond Art is a relaxing artform that allows you t
 o make beautiful pictures\, dot by dot.
X-WR-RELCALID:f8bd6c0270dfdc68d82cf252d7b5729e
X-WR-TIMEZONE:America/Denver
BEGIN:VTIMEZONE
TZID:America/Denver
BEGIN:STANDARD
TZNAME:MST
DTSTART:20301103T020000
TZOFFSETFROM:-0600
TZOFFSETTO:-0700
RDATE:20311102T020000
RDATE:20321107T020000
END:STANDARD
BEGIN:DAYLIGHT
TZNAME:MDT
DTSTART:20310309T020000
TZOFFSETFROM:-0700
TZOFFSETTO:-0600
RDATE:20320314T020000
RDATE:20330313T020000
END:DAYLIGHT
END:VTIMEZONE
BEGIN:VEVENT
UID:64a8cb6d-aa2e-4a34-a77b-f5aab0937435
DTSTAMP:20260425T122241Z
DESCRIPTION:Join us every Monday and Thursday at the Red Mountain Senior Ce
 nter for Diamond Art! Diamond Art is a relaxing artform that allows you to
  make beautiful pictures\, dot by dot.
DTSTART;TZID=America/Denver:20310925T123000
DTEND;TZID=America/Denver:20310925T150000
LOCATION:7550 East Adobe Street\, Mesa\, AZ 85207 US
SUMMARY:Diamond Art
END:VEVENT
END:VCALENDAR
