BEGIN:VCALENDAR
VERSION:2.0
PRODID:-//www.asteraz.org//NONSGML kigkonsult.se iCalcreator 2.30.10//
CALSCALE:GREGORIAN
METHOD:PUBLISH
UID:b6f2a877-5e4d-485b-984a-81243305aba2
X-WR-CALDESC:FREE blood pressure screenings are offered at Aster's Downtown
  Senior Center every Thursday to all participants. Learn your numbers to b
 etter manage your health!
X-WR-RELCALID:de6fbf0a95ea75241eea5629342059a9
X-WR-TIMEZONE:America/Denver
BEGIN:VTIMEZONE
TZID:America/Denver
BEGIN:STANDARD
TZNAME:MST
DTSTART:20301103T020000
TZOFFSETFROM:-0600
TZOFFSETTO:-0700
RDATE:20311102T020000
RDATE:20321107T020000
END:STANDARD
BEGIN:DAYLIGHT
TZNAME:MDT
DTSTART:20310309T020000
TZOFFSETFROM:-0700
TZOFFSETTO:-0600
RDATE:20320314T020000
RDATE:20330313T020000
END:DAYLIGHT
END:VTIMEZONE
BEGIN:VEVENT
UID:bfbfcbed-fd2b-4b5c-829e-749e40014a18
DTSTAMP:20260425T122253Z
DESCRIPTION:FREE blood pressure screenings are offered at Aster's Downtown 
 Senior Center every Thursday to all participants. Learn your numbers to be
 tter manage your health!
DTSTART;TZID=America/Denver:20310925T100000
DTEND;TZID=America/Denver:20310925T110000
LOCATION:247 N. Macdonald Street\, Mesa\, AZ 85201 US
SUMMARY:Blood pressure screenings
END:VEVENT
END:VCALENDAR
