BEGIN:VCALENDAR
VERSION:2.0
PRODID:-//www.asteraz.org//NONSGML kigkonsult.se iCalcreator 2.30.10//
CALSCALE:GREGORIAN
METHOD:PUBLISH
UID:c01facd8-020c-4107-b4de-8840f5b87e91
X-WR-CALDESC:Join us to learn about bereavement and how to develop healthy 
 coping skills to deal with your loss. The group will provide support and h
 ope. Capacity is limited.\n\nFacilitated by EMPACT.
X-WR-RELCALID:44a82fce4b1d5aa01111dc505d08272a
X-WR-TIMEZONE:America/Denver
BEGIN:VTIMEZONE
TZID:America/Denver
BEGIN:STANDARD
TZNAME:MST
DTSTART:20301103T020000
TZOFFSETFROM:-0600
TZOFFSETTO:-0700
RDATE:20311102T020000
RDATE:20321107T020000
END:STANDARD
BEGIN:DAYLIGHT
TZNAME:MDT
DTSTART:20310309T020000
TZOFFSETFROM:-0700
TZOFFSETTO:-0600
RDATE:20320314T020000
RDATE:20330313T020000
END:DAYLIGHT
END:VTIMEZONE
BEGIN:VEVENT
UID:383c2c8d-9fe2-4321-8b10-ec5ce8d9a594
DTSTAMP:20260425T121941Z
DESCRIPTION:Join us to learn about bereavement and how to develop healthy c
 oping skills to deal with your loss. The group will provide support and ho
 pe. Capacity is limited.\n\nFacilitated by EMPACT.
DTSTART;TZID=America/Denver:20310924T130000
DTEND;TZID=America/Denver:20310924T140000
LOCATION:Mesa Downtown Senior Center
SUMMARY:DT Grief & Loss Support
END:VEVENT
END:VCALENDAR
