BEGIN:VCALENDAR
VERSION:2.0
PRODID:-//www.asteraz.org//NONSGML kigkonsult.se iCalcreator 2.30.10//
CALSCALE:GREGORIAN
METHOD:PUBLISH
UID:b01badc5-5731-4709-a38f-6b2e62eb850a
X-WR-CALDESC:Join us for a fun game of Canasta every Wednesday and Friday a
 fternoon at the Red Mountain Senior Center.
X-WR-RELCALID:278f678ff89c79597af057bfd856c1e6
X-WR-TIMEZONE:America/Denver
BEGIN:VTIMEZONE
TZID:America/Denver
BEGIN:STANDARD
TZNAME:MST
DTSTART:20301103T020000
TZOFFSETFROM:-0600
TZOFFSETTO:-0700
RDATE:20311102T020000
RDATE:20321107T020000
END:STANDARD
BEGIN:DAYLIGHT
TZNAME:MDT
DTSTART:20310309T020000
TZOFFSETFROM:-0700
TZOFFSETTO:-0600
RDATE:20320314T020000
RDATE:20330313T020000
END:DAYLIGHT
END:VTIMEZONE
BEGIN:VEVENT
UID:172e9894-beaf-49b0-bf1d-c950f6236474
DTSTAMP:20260425T121515Z
DESCRIPTION:Join us for a fun game of Canasta every Wednesday and Friday af
 ternoon at the Red Mountain Senior Center.
DTSTART;TZID=America/Denver:20310924T123000
DTEND;TZID=America/Denver:20310924T150000
LOCATION:7550 East Adobe Street\, Mesa\, AZ 85207 US
SUMMARY:Canasta
END:VEVENT
END:VCALENDAR
