BEGIN:VCALENDAR
VERSION:2.0
PRODID:-//www.asteraz.org//NONSGML kigkonsult.se iCalcreator 2.30.10//
CALSCALE:GREGORIAN
METHOD:PUBLISH
UID:5fd55526-8d29-42ae-9750-3aad408f316c
X-WR-CALDESC:Join Aster's Downtown Mesa Senior Center every Wednesday and p
 lay Bingo for fun. RSVP to the Center in advance\, as spots are limited.
X-WR-RELCALID:cf684a5ec40c72919bcbb8c93ad64b29
X-WR-TIMEZONE:America/Denver
BEGIN:VTIMEZONE
TZID:America/Denver
BEGIN:STANDARD
TZNAME:MST
DTSTART:20301103T020000
TZOFFSETFROM:-0600
TZOFFSETTO:-0700
RDATE:20311102T020000
RDATE:20321107T020000
END:STANDARD
BEGIN:DAYLIGHT
TZNAME:MDT
DTSTART:20310309T020000
TZOFFSETFROM:-0700
TZOFFSETTO:-0600
RDATE:20320314T020000
RDATE:20330313T020000
END:DAYLIGHT
END:VTIMEZONE
BEGIN:VEVENT
UID:46ccf797-1dc4-44dc-9626-d64dccceb27b
DTSTAMP:20260425T121620Z
DESCRIPTION:Join Aster's Downtown Mesa Senior Center every Wednesday and pl
 ay Bingo for fun. RSVP to the Center in advance\, as spots are limited.
DTSTART;TZID=America/Denver:20310924T123000
DTEND;TZID=America/Denver:20310924T150000
LOCATION:247 N. Macdonald Street\, Mesa\, AZ 85201 US
SUMMARY:Bingo! For Fun
END:VEVENT
END:VCALENDAR
