BEGIN:VCALENDAR
VERSION:2.0
PRODID:-//www.asteraz.org//NONSGML kigkonsult.se iCalcreator 2.30.10//
CALSCALE:GREGORIAN
METHOD:PUBLISH
UID:4d38891e-3719-4358-9c8f-9e4b4a17d6a4
X-WR-CALDESC:Our female participants come together for friendship & fun eve
 ry first and third Wednesday of the month.
X-WR-RELCALID:01e262ed5683bbd4f4622cc53cc5659a
X-WR-TIMEZONE:America/Denver
BEGIN:VTIMEZONE
TZID:America/Denver
BEGIN:STANDARD
TZNAME:MST
DTSTART:20301103T020000
TZOFFSETFROM:-0600
TZOFFSETTO:-0700
RDATE:20311102T020000
RDATE:20321107T020000
END:STANDARD
BEGIN:DAYLIGHT
TZNAME:MDT
DTSTART:20310309T020000
TZOFFSETFROM:-0700
TZOFFSETTO:-0600
RDATE:20320314T020000
RDATE:20330313T020000
END:DAYLIGHT
END:VTIMEZONE
BEGIN:VEVENT
UID:adfb0ef1-05e5-483f-b789-b79bee52b374
DTSTAMP:20260425T122629Z
DESCRIPTION:Our female participants come together for friendship & fun ever
 y first and third Wednesday of the month.
DTSTART;TZID=America/Denver:20310924T093000
DTEND;TZID=America/Denver:20310924T103000
LOCATION:7550 East Adobe Street\, Mesa\, AZ 85207 US
SUMMARY:The Golden Gals
END:VEVENT
END:VCALENDAR
