BEGIN:VCALENDAR
VERSION:2.0
PRODID:-//www.asteraz.org//NONSGML kigkonsult.se iCalcreator 2.30.10//
CALSCALE:GREGORIAN
METHOD:PUBLISH
UID:2da3a1ab-4386-48ef-b7f7-21fbe0368b9b
X-WR-CALDESC:Join us every Tuesday and Thursday in the Mesa Downtown Senior
  Center fitness center to connect with a fitness trainer to help you stay 
 in shape and reach your fitness goals.
X-WR-RELCALID:92eb1213452e027efd2f5204ff120190
X-WR-TIMEZONE:America/Denver
BEGIN:VTIMEZONE
TZID:America/Denver
BEGIN:STANDARD
TZNAME:MST
DTSTART:20301103T020000
TZOFFSETFROM:-0600
TZOFFSETTO:-0700
RDATE:20311102T020000
RDATE:20321107T020000
END:STANDARD
BEGIN:DAYLIGHT
TZNAME:MDT
DTSTART:20310309T020000
TZOFFSETFROM:-0700
TZOFFSETTO:-0600
RDATE:20320314T020000
RDATE:20330313T020000
END:DAYLIGHT
END:VTIMEZONE
BEGIN:VEVENT
UID:2cb1bcf9-ac87-4fee-b7ee-70aa2acaa86f
DTSTAMP:20260425T122601Z
DESCRIPTION:Join us every Tuesday and Thursday in the Mesa Downtown Senior 
 Center fitness center to connect with a fitness trainer to help you stay i
 n shape and reach your fitness goals.
DTSTART;TZID=America/Denver:20310923T103000
DTEND;TZID=America/Denver:20310923T140000
LOCATION:247 N. Macdonald Street\, Mesa\, AZ 85201 US
SUMMARY:Fitness Trainer
END:VEVENT
END:VCALENDAR
