BEGIN:VCALENDAR
VERSION:2.0
PRODID:-//www.asteraz.org//NONSGML kigkonsult.se iCalcreator 2.30.10//
CALSCALE:GREGORIAN
METHOD:PUBLISH
UID:48b87888-eabb-44a9-90d0-44cd9063918f
X-WR-CALDESC:Get your day moving in the right direction with some exercise!
  This event is free to attend but does require pre-registration and has li
 mited capacity.
X-WR-RELCALID:546c5da2900edc57d37016dd39980529
X-WR-TIMEZONE:America/Denver
BEGIN:VTIMEZONE
TZID:America/Denver
BEGIN:STANDARD
TZNAME:MST
DTSTART:20301103T020000
TZOFFSETFROM:-0600
TZOFFSETTO:-0700
RDATE:20311102T020000
RDATE:20321107T020000
END:STANDARD
BEGIN:DAYLIGHT
TZNAME:MDT
DTSTART:20310309T020000
TZOFFSETFROM:-0700
TZOFFSETTO:-0600
RDATE:20320314T020000
RDATE:20330313T020000
END:DAYLIGHT
END:VTIMEZONE
BEGIN:VEVENT
UID:d2a3c003-ee81-47aa-abd0-7d01f0f7bfba
DTSTAMP:20260425T121400Z
DESCRIPTION:Get your day moving in the right direction with some exercise! 
 This event is free to attend but does require pre-registration and has lim
 ited capacity.
DTSTART;TZID=America/Denver:20310919T081500
DTEND;TZID=America/Denver:20310919T090000
LOCATION:7550 East Adobe Street\, Mesa\, AZ 85207 US
SUMMARY:RM Stretch & Flex
END:VEVENT
END:VCALENDAR
