BEGIN:VCALENDAR
VERSION:2.0
PRODID:-//www.asteraz.org//NONSGML kigkonsult.se iCalcreator 2.30.10//
CALSCALE:GREGORIAN
METHOD:PUBLISH
UID:76ae4d1c-a1f5-44fb-b375-c6ca96ca2913
X-WR-CALDESC:Come enjoy a good film and fresh popcorn at Aster's Movie Club
 .\nMovies are free to attend with complimentary popcorn. Additional snacks
  are available for purchase in the Café.
X-WR-RELCALID:7260b3cf3582882a67bf0df222bf6d92
X-WR-TIMEZONE:America/Denver
BEGIN:VTIMEZONE
TZID:America/Denver
BEGIN:STANDARD
TZNAME:MST
DTSTART:20301103T020000
TZOFFSETFROM:-0600
TZOFFSETTO:-0700
RDATE:20311102T020000
RDATE:20321107T020000
END:STANDARD
BEGIN:DAYLIGHT
TZNAME:MDT
DTSTART:20310309T020000
TZOFFSETFROM:-0700
TZOFFSETTO:-0600
RDATE:20320314T020000
RDATE:20330313T020000
END:DAYLIGHT
END:VTIMEZONE
BEGIN:VEVENT
UID:277a1500-b092-4065-bd79-0304e0e81202
DTSTAMP:20260425T122947Z
DESCRIPTION:Come enjoy a good film and fresh popcorn at Aster's Movie Club.
 \nMovies are free to attend with complimentary popcorn. Additional snacks 
 are available for purchase in the Café.
DTSTART;TZID=America/Denver:20310918T123000
DTEND;TZID=America/Denver:20310918T150000
LOCATION:Mesa Downtown
SUMMARY:DT Movie Club
END:VEVENT
END:VCALENDAR
