BEGIN:VCALENDAR
VERSION:2.0
PRODID:-//www.asteraz.org//NONSGML kigkonsult.se iCalcreator 2.30.10//
CALSCALE:GREGORIAN
METHOD:PUBLISH
UID:aa174299-7325-4a63-b443-62f08b163ca0
X-WR-CALDESC:
X-WR-RELCALID:48a78edb052ba3b0edf9f0ea08ede79c
X-WR-TIMEZONE:America/Denver
BEGIN:VTIMEZONE
TZID:America/Denver
BEGIN:STANDARD
TZNAME:MST
DTSTART:20301103T020000
TZOFFSETFROM:-0600
TZOFFSETTO:-0700
RDATE:20311102T020000
RDATE:20321107T020000
END:STANDARD
BEGIN:DAYLIGHT
TZNAME:MDT
DTSTART:20310309T020000
TZOFFSETFROM:-0700
TZOFFSETTO:-0600
RDATE:20320314T020000
RDATE:20330313T020000
END:DAYLIGHT
END:VTIMEZONE
BEGIN:VEVENT
UID:9fd3a42e-91be-4b5f-b358-5e166edfb195
DTSTAMP:20260425T122911Z
DESCRIPTION:
DTSTART;TZID=America/Denver:20310918T094500
DTEND;TZID=America/Denver:20310918T104500
LOCATION:Mesa Downtown
SUMMARY:DT Chair Yoga
END:VEVENT
END:VCALENDAR
