BEGIN:VCALENDAR
VERSION:2.0
PRODID:-//www.asteraz.org//NONSGML kigkonsult.se iCalcreator 2.30.10//
CALSCALE:GREGORIAN
METHOD:PUBLISH
UID:b3e1d927-03cf-4969-b00b-776026ee42d0
X-WR-CALDESC:Dominoes\, puzzles\, board games\, cards\, & more! Join us at 
 the Mesa Downtown Senior Center every Thursday morning for lively conversa
 tion and fun games.
X-WR-RELCALID:beac24a688aef7f82168ec04e461a523
X-WR-TIMEZONE:America/Denver
BEGIN:VTIMEZONE
TZID:America/Denver
BEGIN:STANDARD
TZNAME:MST
DTSTART:20301103T020000
TZOFFSETFROM:-0600
TZOFFSETTO:-0700
RDATE:20311102T020000
RDATE:20321107T020000
END:STANDARD
BEGIN:DAYLIGHT
TZNAME:MDT
DTSTART:20310309T020000
TZOFFSETFROM:-0700
TZOFFSETTO:-0600
RDATE:20320314T020000
RDATE:20330313T020000
END:DAYLIGHT
END:VTIMEZONE
BEGIN:VEVENT
UID:1de3c050-0f92-4144-b5ca-162081c0672b
DTSTAMP:20260425T121702Z
DESCRIPTION:Dominoes\, puzzles\, board games\, cards\, & more! Join us at t
 he Mesa Downtown Senior Center every Thursday morning for lively conversat
 ion and fun games.
DTSTART;TZID=America/Denver:20310918T093000
DTEND;TZID=America/Denver:20310918T103000
LOCATION:247 N. Macdonald Street\, Mesa\, AL 85201 US
SUMMARY:Fun & Games
END:VEVENT
END:VCALENDAR
