BEGIN:VCALENDAR
VERSION:2.0
PRODID:-//www.asteraz.org//NONSGML kigkonsult.se iCalcreator 2.30.10//
CALSCALE:GREGORIAN
METHOD:PUBLISH
UID:d538d703-e236-4f5a-afc8-cbf66c7cc154
X-WR-CALDESC:Get your morning moving in the right direction with some exerc
 ise! Form new friendships and a healthy routine with relaxing Morning Move
 ment.\n\nThis activity has a $2 fee.
X-WR-RELCALID:b41b774901553103cadec78c2dd622f0
X-WR-TIMEZONE:America/Denver
BEGIN:VTIMEZONE
TZID:America/Denver
BEGIN:STANDARD
TZNAME:MST
DTSTART:20301103T020000
TZOFFSETFROM:-0600
TZOFFSETTO:-0700
RDATE:20311102T020000
RDATE:20321107T020000
END:STANDARD
BEGIN:DAYLIGHT
TZNAME:MDT
DTSTART:20310309T020000
TZOFFSETFROM:-0700
TZOFFSETTO:-0600
RDATE:20320314T020000
RDATE:20330313T020000
END:DAYLIGHT
END:VTIMEZONE
BEGIN:VEVENT
UID:63047452-8b89-4a8e-8013-d59573d0017e
DTSTAMP:20260425T123106Z
DESCRIPTION:Get your morning moving in the right direction with some exerci
 se! Form new friendships and a healthy routine with relaxing Morning Movem
 ent.\n\nThis activity has a $2 fee.
DTSTART;TZID=America/Denver:20310917T081500
DTEND;TZID=America/Denver:20310917T091500
LOCATION:247 N. Macdonald Street\, Mesa\, AZ 85201 US
SUMMARY:Morning Movement at the Downtown Senior Center
END:VEVENT
END:VCALENDAR
