BEGIN:VCALENDAR
VERSION:2.0
PRODID:-//www.asteraz.org//NONSGML kigkonsult.se iCalcreator 2.30.10//
CALSCALE:GREGORIAN
METHOD:PUBLISH
UID:54fb49f8-3f1f-440c-9300-bf3e71dc59ea
X-WR-CALDESC:A weekly group for people with hearing issues to chat and shar
 e their experiences.
X-WR-RELCALID:b6bb1a43e870ea6e4c863d007d694648
X-WR-TIMEZONE:America/Denver
BEGIN:VTIMEZONE
TZID:America/Denver
BEGIN:STANDARD
TZNAME:MST
DTSTART:20301103T020000
TZOFFSETFROM:-0600
TZOFFSETTO:-0700
RDATE:20311102T020000
RDATE:20321107T020000
END:STANDARD
BEGIN:DAYLIGHT
TZNAME:MDT
DTSTART:20310309T020000
TZOFFSETFROM:-0700
TZOFFSETTO:-0600
RDATE:20320314T020000
RDATE:20330313T020000
END:DAYLIGHT
END:VTIMEZONE
BEGIN:VEVENT
UID:5e273d6f-88d8-4cda-879a-d6fa46fe81e5
DTSTAMP:20260425T121216Z
DESCRIPTION:A weekly group for people with hearing issues to chat and share
  their experiences.
DTSTART;TZID=America/Denver:20310916T103000
DTEND;TZID=America/Denver:20310916T150000
LOCATION:7550 East Adobe Street\, Mesa\, AZ 85207 US
SUMMARY:Deaf Support Group
END:VEVENT
END:VCALENDAR
