BEGIN:VCALENDAR
VERSION:2.0
PRODID:-//www.asteraz.org//NONSGML kigkonsult.se iCalcreator 2.30.10//
CALSCALE:GREGORIAN
METHOD:PUBLISH
UID:8c52650d-ee48-413d-8c82-7fb89f462248
X-WR-CALDESC:Have fun golfing digitally with friends. No experience necessa
 ry! The 'Wii' is a Nintendo game console focused on gentle movement. It is
  easy and fun to play\, and the crew will be more than happy to show you t
 he ropes.
X-WR-RELCALID:016149491fa629f8d7c19513f06f9942
X-WR-TIMEZONE:America/Denver
BEGIN:VTIMEZONE
TZID:America/Denver
BEGIN:STANDARD
TZNAME:MST
DTSTART:20301103T020000
TZOFFSETFROM:-0600
TZOFFSETTO:-0700
RDATE:20311102T020000
RDATE:20321107T020000
END:STANDARD
BEGIN:DAYLIGHT
TZNAME:MDT
DTSTART:20310309T020000
TZOFFSETFROM:-0700
TZOFFSETTO:-0600
RDATE:20320314T020000
RDATE:20330313T020000
END:DAYLIGHT
END:VTIMEZONE
BEGIN:VEVENT
UID:5eb98729-9464-4306-9a14-5bab744a6c16
DTSTAMP:20260425T122239Z
DESCRIPTION:Have fun golfing digitally with friends. No experience necessar
 y! The 'Wii' is a Nintendo game console focused on gentle movement. It is 
 easy and fun to play\, and the crew will be more than happy to show you th
 e ropes.
DTSTART;TZID=America/Denver:20310916T080000
DTEND;TZID=America/Denver:20310916T110000
LOCATION:247 N. Macdonald Street\, Mesa\, AZ 85201 US
SUMMARY:Wii Golf
END:VEVENT
END:VCALENDAR
