BEGIN:VCALENDAR
VERSION:2.0
PRODID:-//www.asteraz.org//NONSGML kigkonsult.se iCalcreator 2.30.10//
CALSCALE:GREGORIAN
METHOD:PUBLISH
UID:8cfbc1fa-fa8e-4d8c-86a8-6c26c9023aee
X-WR-CALDESC:Join us at Aster's Downtown Mesa Senior Center every Friday to
  play Bingo for Cash. RSVP in advance to the Center\, spots are limited.
X-WR-RELCALID:85081e133658563ea72f91c67e29ce14
X-WR-TIMEZONE:America/Denver
BEGIN:VTIMEZONE
TZID:America/Denver
BEGIN:STANDARD
TZNAME:MST
DTSTART:20301103T020000
TZOFFSETFROM:-0600
TZOFFSETTO:-0700
RDATE:20311102T020000
RDATE:20321107T020000
END:STANDARD
BEGIN:DAYLIGHT
TZNAME:MDT
DTSTART:20310309T020000
TZOFFSETFROM:-0700
TZOFFSETTO:-0600
RDATE:20320314T020000
RDATE:20330313T020000
END:DAYLIGHT
END:VTIMEZONE
BEGIN:VEVENT
UID:959ff70a-24cd-4af1-bd43-bc4534ac124f
DTSTAMP:20260425T122605Z
DESCRIPTION:Join us at Aster's Downtown Mesa Senior Center every Friday to 
 play Bingo for Cash. RSVP in advance to the Center\, spots are limited.
DTSTART;TZID=America/Denver:20310912T130000
DTEND;TZID=America/Denver:20310912T150000
LOCATION:247 N. Macdonald Street\, Mesa\, AZ 85201 US
SUMMARY:Bingo! For Money
END:VEVENT
END:VCALENDAR
