BEGIN:VCALENDAR
VERSION:2.0
PRODID:-//www.asteraz.org//NONSGML kigkonsult.se iCalcreator 2.30.10//
CALSCALE:GREGORIAN
METHOD:PUBLISH
UID:55f8c6c6-913f-4974-b76b-deb4507f1261
X-WR-CALDESC:Join us every day from 10:00 am to 3:00 pm for an exciting gam
 e of billiards at Mesa's Downtown Senior Center. Our pool tables just got 
 resurfaced\, and they're as good as new.
X-WR-RELCALID:3f73547bcf1135f3681b9a0a8ffe024a
X-WR-TIMEZONE:America/Denver
BEGIN:VTIMEZONE
TZID:America/Denver
BEGIN:STANDARD
TZNAME:MST
DTSTART:20301103T020000
TZOFFSETFROM:-0600
TZOFFSETTO:-0700
RDATE:20311102T020000
RDATE:20321107T020000
END:STANDARD
BEGIN:DAYLIGHT
TZNAME:MDT
DTSTART:20310309T020000
TZOFFSETFROM:-0700
TZOFFSETTO:-0600
RDATE:20320314T020000
RDATE:20330313T020000
END:DAYLIGHT
END:VTIMEZONE
BEGIN:VEVENT
UID:f679ad96-a47f-42e5-ada9-6ce283e826fe
DTSTAMP:20260425T122908Z
DESCRIPTION:Join us every day from 10:00 am to 3:00 pm for an exciting game
  of billiards at Mesa's Downtown Senior Center. Our pool tables just got r
 esurfaced\, and they're as good as new.
DTSTART;TZID=America/Denver:20310912T100000
DTEND;TZID=America/Denver:20310912T150000
LOCATION:247 N. Macdonald Street\, Mesa\, AZ 85201 US
SUMMARY:Billiards at the Mesa Downtown Senior Center
END:VEVENT
END:VCALENDAR
