BEGIN:VCALENDAR
VERSION:2.0
PRODID:-//www.asteraz.org//NONSGML kigkonsult.se iCalcreator 2.30.10//
CALSCALE:GREGORIAN
METHOD:PUBLISH
UID:34290a00-03ab-47ae-9737-67306527b895
X-WR-CALDESC:Slip on your dancing shoes and dance the afternoon away! Enjoy
  live music. Capacity is limited. \n\nCost per person is $5.
X-WR-RELCALID:08a8a2d8bd54e4638535d0886f5d9606
X-WR-TIMEZONE:America/Denver
BEGIN:VTIMEZONE
TZID:America/Denver
BEGIN:STANDARD
TZNAME:MST
DTSTART:20301103T020000
TZOFFSETFROM:-0600
TZOFFSETTO:-0700
RDATE:20311102T020000
RDATE:20321107T020000
END:STANDARD
BEGIN:DAYLIGHT
TZNAME:MDT
DTSTART:20310309T020000
TZOFFSETFROM:-0700
TZOFFSETTO:-0600
RDATE:20320314T020000
END:DAYLIGHT
END:VTIMEZONE
BEGIN:VEVENT
UID:6b3f1cd2-f0af-433f-81c8-38ebcf164edb
DTSTAMP:20260425T121713Z
DESCRIPTION:Slip on your dancing shoes and dance the afternoon away! Enjoy 
 live music. Capacity is limited. \n\nCost per person is $5.
DTSTART;TZID=America/Denver:20310910T130000
DTEND;TZID=America/Denver:20310910T150000
LOCATION:Red Mountain Senior Center
SUMMARY:RM Dance Party
END:VEVENT
END:VCALENDAR
