BEGIN:VCALENDAR
VERSION:2.0
PRODID:-//www.asteraz.org//NONSGML kigkonsult.se iCalcreator 2.30.10//
CALSCALE:GREGORIAN
METHOD:PUBLISH
UID:948d51a1-86ed-4e62-b309-83e11a2f6dca
X-WR-CALDESC:Bedazzle rubber ducks in this fun and unique class every Wedne
 sday! \n\nCost: supplies
X-WR-RELCALID:b372393de3c36c09900c98b907896266
X-WR-TIMEZONE:America/Denver
BEGIN:VTIMEZONE
TZID:America/Denver
BEGIN:STANDARD
TZNAME:MST
DTSTART:20301103T020000
TZOFFSETFROM:-0600
TZOFFSETTO:-0700
RDATE:20311102T020000
RDATE:20321107T020000
END:STANDARD
BEGIN:DAYLIGHT
TZNAME:MDT
DTSTART:20310309T020000
TZOFFSETFROM:-0700
TZOFFSETTO:-0600
RDATE:20320314T020000
END:DAYLIGHT
END:VTIMEZONE
BEGIN:VEVENT
UID:2b8774ac-9dea-4d95-9225-282ea6bd5817
DTSTAMP:20260425T122559Z
DESCRIPTION:Bedazzle rubber ducks in this fun and unique class every Wednes
 day! \n\nCost: supplies
DTSTART;TZID=America/Denver:20310910T123000
DTEND;TZID=America/Denver:20310910T150000
LOCATION:7550 East Adobe Street\, Mesa\, AZ 85207 US
SUMMARY:Diamond Art Duckies
END:VEVENT
END:VCALENDAR
