BEGIN:VCALENDAR
VERSION:2.0
PRODID:-//www.asteraz.org//NONSGML kigkonsult.se iCalcreator 2.30.10//
CALSCALE:GREGORIAN
METHOD:PUBLISH
UID:51d76cd3-0309-43b9-a6b3-4ce5873e4cde
X-WR-CALDESC:Join Aster's Downtown Mesa Senior Center every Wednesday and p
 lay Bingo for fun. RSVP to the Center in advance\, as spots are limited.
X-WR-RELCALID:5cdd58875a44b77f76cb17311557c4af
X-WR-TIMEZONE:America/Denver
BEGIN:VTIMEZONE
TZID:America/Denver
BEGIN:STANDARD
TZNAME:MST
DTSTART:20301103T020000
TZOFFSETFROM:-0600
TZOFFSETTO:-0700
RDATE:20311102T020000
RDATE:20321107T020000
END:STANDARD
BEGIN:DAYLIGHT
TZNAME:MDT
DTSTART:20310309T020000
TZOFFSETFROM:-0700
TZOFFSETTO:-0600
RDATE:20320314T020000
END:DAYLIGHT
END:VTIMEZONE
BEGIN:VEVENT
UID:27089098-ef0c-469e-8724-c0f941bf47d9
DTSTAMP:20260425T122255Z
DESCRIPTION:Join Aster's Downtown Mesa Senior Center every Wednesday and pl
 ay Bingo for fun. RSVP to the Center in advance\, as spots are limited.
DTSTART;TZID=America/Denver:20310910T123000
DTEND;TZID=America/Denver:20310910T150000
LOCATION:247 N. Macdonald Street\, Mesa\, AZ 85201 US
SUMMARY:Bingo! For Fun
END:VEVENT
END:VCALENDAR
