BEGIN:VCALENDAR
VERSION:2.0
PRODID:-//www.asteraz.org//NONSGML kigkonsult.se iCalcreator 2.30.10//
CALSCALE:GREGORIAN
METHOD:PUBLISH
UID:49c1d6b7-2758-4b68-a4b2-23370e371ec3
X-WR-CALDESC:The plane is waiting on the tarmac to take you to fascinating 
 countries around the world.\n\nCapacity is limited.
X-WR-RELCALID:7cdf27afb482650ab345763e0514ea99
X-WR-TIMEZONE:America/Denver
BEGIN:VTIMEZONE
TZID:America/Denver
BEGIN:STANDARD
TZNAME:MST
DTSTART:20301103T020000
TZOFFSETFROM:-0600
TZOFFSETTO:-0700
RDATE:20311102T020000
RDATE:20321107T020000
END:STANDARD
BEGIN:DAYLIGHT
TZNAME:MDT
DTSTART:20310309T020000
TZOFFSETFROM:-0700
TZOFFSETTO:-0600
RDATE:20320314T020000
END:DAYLIGHT
END:VTIMEZONE
BEGIN:VEVENT
UID:5f85ecf9-a181-454c-9131-9c5d399e8426
DTSTAMP:20260425T122104Z
DESCRIPTION:The plane is waiting on the tarmac to take you to fascinating c
 ountries around the world.\n\nCapacity is limited.
DTSTART;TZID=America/Denver:20310908T140000
DTEND;TZID=America/Denver:20310908T150000
LOCATION:Mesa Downtown
SUMMARY:DT Virtual Travel
END:VEVENT
END:VCALENDAR
