BEGIN:VCALENDAR
VERSION:2.0
PRODID:-//www.asteraz.org//NONSGML kigkonsult.se iCalcreator 2.30.10//
CALSCALE:GREGORIAN
METHOD:PUBLISH
UID:a3ba6923-150f-4d03-8c59-6cd0d253f0e8
X-WR-CALDESC:Have fun singing golden-oldies or just watching others try in 
 this judgment free zone.
X-WR-RELCALID:d4ab9584c9d230d58bc1a61797acd2a2
X-WR-TIMEZONE:America/Denver
BEGIN:VTIMEZONE
TZID:America/Denver
BEGIN:STANDARD
TZNAME:MST
DTSTART:20301103T020000
TZOFFSETFROM:-0600
TZOFFSETTO:-0700
RDATE:20311102T020000
RDATE:20321107T020000
END:STANDARD
BEGIN:DAYLIGHT
TZNAME:MDT
DTSTART:20310309T020000
TZOFFSETFROM:-0700
TZOFFSETTO:-0600
RDATE:20320314T020000
END:DAYLIGHT
END:VTIMEZONE
BEGIN:VEVENT
UID:9aea0829-61a5-40fe-9068-4397c17d3b10
DTSTAMP:20260425T122729Z
DESCRIPTION:Have fun singing golden-oldies or just watching others try in t
 his judgment free zone.
DTSTART;TZID=America/Denver:20310908T123000
DTEND;TZID=America/Denver:20310908T133000
LOCATION:Mesa Downtown
SUMMARY:DT Karaoke Mondays
END:VEVENT
END:VCALENDAR
