BEGIN:VCALENDAR
VERSION:2.0
PRODID:-//www.asteraz.org//NONSGML kigkonsult.se iCalcreator 2.30.10//
CALSCALE:GREGORIAN
METHOD:PUBLISH
UID:47bb2edf-6fe3-424a-811f-00f8b81f09cf
X-WR-CALDESC:Join us every Monday morning for Mahjong for beginners at the 
 Mesa Red Mountain Senior Center.
X-WR-RELCALID:2b9c9a01f54c1505bdffdec8a7d916c2
X-WR-TIMEZONE:America/Denver
BEGIN:VTIMEZONE
TZID:America/Denver
BEGIN:STANDARD
TZNAME:MST
DTSTART:20301103T020000
TZOFFSETFROM:-0600
TZOFFSETTO:-0700
RDATE:20311102T020000
RDATE:20321107T020000
END:STANDARD
BEGIN:DAYLIGHT
TZNAME:MDT
DTSTART:20310309T020000
TZOFFSETFROM:-0700
TZOFFSETTO:-0600
RDATE:20320314T020000
END:DAYLIGHT
END:VTIMEZONE
BEGIN:VEVENT
UID:ce1815b6-53a2-471b-8556-fd30aaba9004
DTSTAMP:20260425T121823Z
DESCRIPTION:Join us every Monday morning for Mahjong for beginners at the M
 esa Red Mountain Senior Center.
DTSTART;TZID=America/Denver:20310908T093000
DTEND;TZID=America/Denver:20310908T120000
LOCATION:7550 East Adobe Street\, Mesa\, AZ 85207 US
SUMMARY:Mahjong for Beginners
END:VEVENT
END:VCALENDAR
